BEGIN:VCALENDAR
VERSION:2.0
PRODID:SchoolNow
CALSCALE:GREGORIAN
BEGIN:VEVENT
UID:a8e6d5bc-350f-11ed-a748-0a3a2494b64f
DTSTAMP:20220915T160129Z
SUMMARY:Spring 2023- Commencement
URL;VALUE=URI:https://www.ladelta.edu/calendar/3397162/spring-2023-commence
 ment
DTSTART;VALUE=DATE:20230515
DTEND;VALUE=DATE:20230516
END:VEVENT
END:VCALENDAR
