BEGIN:VCALENDAR
VERSION:2.0
PRODID:SchoolNow
CALSCALE:GREGORIAN
BEGIN:VEVENT
UID:d6109b40-350f-11ed-aa4a-0a3a2494b64f
DTSTAMP:20220915T160245Z
SUMMARY:Campus Closed for Christmas/New Year Holiday
URL;VALUE=URI:https://www.ladelta.edu/calendar/3397163/campus-closed-for-ch
 ristmas-new-year-holiday
DTSTART;VALUE=DATE:20221222
DTEND;VALUE=DATE:20221231
END:VEVENT
END:VCALENDAR
