BEGIN:VCALENDAR
VERSION:2.0
PRODID:SchoolNow
CALSCALE:GREGORIAN
BEGIN:VEVENT
UID:ef84707e-350f-11ed-878c-0a3a2494b64f
DTSTAMP:20220915T160327Z
SUMMARY:Spring 2023- Martin Luther King\, Jr. Day Campus Closed
URL;VALUE=URI:https://www.ladelta.edu/calendar/3397164/spring-2023-martin-l
 uther-king-jr-day-campus-closed
DTSTART;VALUE=DATE:20230116
DTEND;VALUE=DATE:20230117
END:VEVENT
END:VCALENDAR
