BEGIN:VCALENDAR
VERSION:2.0
PRODID:SchoolNow
CALSCALE:GREGORIAN
BEGIN:VEVENT
UID:2164ec22-3510-11ed-a57c-0a3a2494b64f
DTSTAMP:20220915T160451Z
SUMMARY:Spring 2023- Mardi Gras Break
URL;VALUE=URI:https://www.ladelta.edu/calendar/3397165/spring-2023-mardi-gr
 as-break
DTSTART;VALUE=DATE:20230220
DTEND;VALUE=DATE:20230222
END:VEVENT
END:VCALENDAR
