BEGIN:VCALENDAR
VERSION:2.0
PRODID:SchoolNow
CALSCALE:GREGORIAN
BEGIN:VEVENT
UID:426bf118-3510-11ed-a878-0a3a2494b64f
DTSTAMP:20220915T160546Z
SUMMARY:Spring 2023- Easter Break  Campus Closed
URL;VALUE=URI:https://www.ladelta.edu/calendar/3397167/spring-2023-easter-b
 reak-campus-closed
DTSTART;VALUE=DATE:20230407
DTEND;VALUE=DATE:20230408
END:VEVENT
END:VCALENDAR
