BEGIN:VCALENDAR
VERSION:2.0
PRODID:SchoolNow
CALSCALE:GREGORIAN
BEGIN:VEVENT
UID:710d90d0-3510-11ed-a8bf-0a3a2494b64f
DTSTAMP:20220915T160705Z
SUMMARY:Spring 2023- Spring Break
URL;VALUE=URI:https://www.ladelta.edu/calendar/3397168/spring-2023-spring-b
 reak
DTSTART;VALUE=DATE:20230410
DTEND;VALUE=DATE:20230415
END:VEVENT
END:VCALENDAR
