BEGIN:VCALENDAR
VERSION:2.0
PRODID:SchoolNow
CALSCALE:GREGORIAN
BEGIN:VEVENT
UID:db051f98-de03-11ed-ae4d-0e25706a905b
DTSTAMP:20230418T161508Z
SUMMARY:2023 Summer and Fall registration and advising for Veterans only.
URL;VALUE=URI:https://www.ladelta.edu/calendar/4077369/2022-summer-and-fall
 -registration-and-advising-for-veterans-only
DTSTART:20230323T050100Z
DTEND:20230323T060100Z
END:VEVENT
END:VCALENDAR
