BEGIN:VCALENDAR
VERSION:2.0
PRODID:SchoolNow
CALSCALE:GREGORIAN
BEGIN:VEVENT
UID:dec84ba4-de04-11ed-a4c8-0e25706a905b
DTSTAMP:20230418T162001Z
SUMMARY:2023 Summer and Fall Registration opens for all students and contin
 ues through posted deadlines.
URL;VALUE=URI:https://www.ladelta.edu/calendar/4077375/2023-summer-and-fall
 -registration-opens-for-all-students-and-continues-through-posted-deadline
 s
DTSTART:20230327T050100Z
DTEND:20230327T060100Z
END:VEVENT
END:VCALENDAR
