BEGIN:VCALENDAR
VERSION:2.0
PRODID:SchoolNow
CALSCALE:GREGORIAN
BEGIN:VEVENT
UID:1d892cb4-de05-11ed-b45b-0e25706a905b
DTSTAMP:20230418T162147Z
SUMMARY:2023 Summer Maymester classes begin.
URL;VALUE=URI:https://www.ladelta.edu/calendar/4077376/2023-summer-maymeste
 r-classes-begin
DTSTART;VALUE=DATE:20230515
DTEND;VALUE=DATE:20230516
END:VEVENT
END:VCALENDAR
