BEGIN:VCALENDAR
VERSION:2.0
PRODID:SchoolNow
CALSCALE:GREGORIAN
BEGIN:VEVENT
UID:6a3b9952-de05-11ed-8cfb-0e25706a905b
DTSTAMP:20230418T162355Z
SUMMARY:2023 Summer Technicial Summer classes begin.
URL;VALUE=URI:https://www.ladelta.edu/calendar/4077377/2023-summer-technici
 al-summer-classes-begin
DTSTART;VALUE=DATE:20230522
DTEND;VALUE=DATE:20230523
END:VEVENT
END:VCALENDAR
