BEGIN:VCALENDAR
VERSION:2.0
PRODID:SchoolNow
CALSCALE:GREGORIAN
BEGIN:VEVENT
UID:92a67cf4-de05-11ed-9885-0e25706a905b
DTSTAMP:20230418T162503Z
SUMMARY:2023 Summer Final date to withdraw from a Maymester class with a gr
 ade of 'W' at 11:59 p.m.
URL;VALUE=URI:https://www.ladelta.edu/calendar/4077379/2023-summer-final-da
 te-to-withdraw-from-a-maymester-class-with-a-grade-of-w-at-11-59-p-m
DTSTART;VALUE=DATE:20230525
DTEND;VALUE=DATE:20230526
END:VEVENT
END:VCALENDAR
