BEGIN:VCALENDAR
VERSION:2.0
PRODID:SchoolNow
CALSCALE:GREGORIAN
BEGIN:VEVENT
UID:cc323c56-de05-11ed-a2a7-0e25706a905b
DTSTAMP:20230620T174052Z
SUMMARY:Summer 2023 - Final date to drop a Technical Summer class with a 10
 0% refund and no 'W' grade on student's record. Technical Summer classes d
 ropped after today will receive a 'W' grade in the class and the class wil
 l be charged fees and tuition. 5/23/23
URL;VALUE=URI:https://www.ladelta.edu/calendar/4077380/summer-2023-final-da
 te-to-drop-a-technical-summer-class-with-a-100-refund-and-no-w-grade-on-st
 udent-s-record
DTSTART;VALUE=DATE:20230523
DTEND;VALUE=DATE:20230524
END:VEVENT
END:VCALENDAR
