BEGIN:VCALENDAR
VERSION:2.0
PRODID:SchoolNow
CALSCALE:GREGORIAN
BEGIN:VEVENT
UID:feff2f4a-de05-11ed-b2c4-0e25706a905b
DTSTAMP:20230418T162805Z
SUMMARY:2023 Summer Registration closes at 11:59 p.m.
URL;VALUE=URI:https://www.ladelta.edu/calendar/4077381/2023-summer-registra
 tion-closes-at-11-59-p-m
DTSTART;VALUE=DATE:20230523
DTEND;VALUE=DATE:20230524
END:VEVENT
END:VCALENDAR
