BEGIN:VCALENDAR
VERSION:2.0
PRODID:SchoolNow
CALSCALE:GREGORIAN
BEGIN:VEVENT
UID:1e60e9b4-de06-11ed-a507-0e25706a905b
DTSTAMP:20230418T162857Z
SUMMARY:2023 Summer first fee payment deadline for all summer classes at 2:
 00 PM and purge for non-payment after 2:00 PM.
URL;VALUE=URI:https://www.ladelta.edu/calendar/4077382/2023-summer-first-fe
 e-payment-deadline-for-all-summer-classes-at-2-00-pm-and-purge-for-non-pay
 ment-after-2-00-pm
DTSTART;VALUE=DATE:20230525
DTEND;VALUE=DATE:20230526
END:VEVENT
END:VCALENDAR
