BEGIN:VCALENDAR
VERSION:2.0
PRODID:SchoolNow
CALSCALE:GREGORIAN
BEGIN:VEVENT
UID:366318f2-de06-11ed-ad83-0e25706a905b
DTSTAMP:20230418T163037Z
SUMMARY:2023 Summer I and Full Summer late registration and add/drop opens 
 at 12:01 AM using LoLA Self-Service and remains open through Tuesday\, Jun
 e 6\, 2023\, until 11:59 p.m. which is the final date to add a Summer I o
 r full-summer class.
URL;VALUE=URI:https://www.ladelta.edu/calendar/4077383/2023-summer-i-and-fu
 ll-summer-late-registration-and-add-drop-opens-at-12-01-am-using-lola-self
 -service-and-remains-open-through-tuesday-june-6-2023-until-11-59-p-m-whic
 h-is-the-final-date-to-add-a-summer-i-or-full-summer-class
DTSTART;VALUE=DATE:20230526
DTEND;VALUE=DATE:20230527
END:VEVENT
END:VCALENDAR
