BEGIN:VCALENDAR
VERSION:2.0
PRODID:SchoolNow
CALSCALE:GREGORIAN
BEGIN:VEVENT
UID:7016e98e-de06-11ed-bc9a-0e25706a905b
DTSTAMP:20230418T163115Z
SUMMARY:2023 Summer I and Full Summer classes begin.
URL;VALUE=URI:https://www.ladelta.edu/calendar/4077384/2023-summer-i-and-fu
 ll-summer-classes-begin
DTSTART;VALUE=DATE:20230605
DTEND;VALUE=DATE:20230606
END:VEVENT
END:VCALENDAR
