BEGIN:VCALENDAR
VERSION:2.0
PRODID:SchoolNow
CALSCALE:GREGORIAN
BEGIN:VEVENT
UID:7bdf85c8-de06-11ed-b10d-0e25706a905b
DTSTAMP:20230418T163134Z
SUMMARY:2023 Summer-Final date to add full-summer and/or Summer I classes a
 t 11:59 p.m.
URL;VALUE=URI:https://www.ladelta.edu/calendar/4077385/2023-summer-final-da
 te-to-add-full-summer-and-or-summer-i-classes-at-11-59-p-m
DTSTART;VALUE=DATE:20230606
DTEND;VALUE=DATE:20230607
END:VEVENT
END:VCALENDAR
