BEGIN:VCALENDAR
VERSION:2.0
PRODID:SchoolNow
CALSCALE:GREGORIAN
BEGIN:VEVENT
UID:8f9e655c-de06-11ed-a255-0e25706a905b
DTSTAMP:20230418T163207Z
SUMMARY:Summer 2023 - Final date to drop a Summer I or full-summer class wi
 th a 100% refund and no 'W' grade on student's record.  Summer I or full s
 ummer classes dropped after today will receive a 'W' grade in the class an
 d the class will be charged fees and tui
URL;VALUE=URI:https://www.ladelta.edu/calendar/4077386/summer-2023-final-da
 te-to-drop-a-summer-i-or-full-summer-class-with-a-100-refund-and-no-w-grad
 e-on-student-s-record-summer-i-or-full-summer-classes-dropped-after-today-
 will-receive-a-w-grade-in-the-class-and-the-class-will-be-charged-fees-and
 -tuition
DTSTART;VALUE=DATE:20230606
DTEND;VALUE=DATE:20230607
END:VEVENT
END:VCALENDAR
