BEGIN:VCALENDAR
VERSION:2.0
PRODID:SchoolNow
CALSCALE:GREGORIAN
BEGIN:VEVENT
UID:b774861a-de06-11ed-a6a0-0e25706a905b
DTSTAMP:20230418T163314Z
SUMMARY:2023  Summer - Final Fee Payment Deadline at 2:00 PM.  Purge for no
 n-payment after 2:00 PM
URL;VALUE=URI:https://www.ladelta.edu/calendar/4077387/2023-summer-final-fe
 e-payment-deadline-at-2-00-pm-purge-for-non-payment-after-2-00-pm
DTSTART:20230608T163200Z
DTEND:20230608T190000Z
END:VEVENT
END:VCALENDAR
