BEGIN:VCALENDAR
VERSION:2.0
PRODID:SchoolNow
CALSCALE:GREGORIAN
BEGIN:VEVENT
UID:f6e3ee9e-de06-11ed-86da-0e25706a905b
DTSTAMP:20230418T163501Z
SUMMARY:2023 Summer 50% refund period ends for Technical Summer and Full Su
 mmer classes. Refund is for tuition only and does not include fees.
URL;VALUE=URI:https://www.ladelta.edu/calendar/4077388/2023-summer-50-refun
 d-period-ends-for-technical-summer-and-full-summer-classes-refund-is-for-t
 uition-only-and-does-not-include-fees
DTSTART;VALUE=DATE:20230612
DTEND;VALUE=DATE:20230613
END:VEVENT
END:VCALENDAR
