BEGIN:VCALENDAR
VERSION:2.0
PRODID:SchoolNow
CALSCALE:GREGORIAN
BEGIN:VEVENT
UID:e707d1be-de08-11ed-a3dd-0232e5095313
DTSTAMP:20230418T164853Z
SUMMARY:2023 Summer I Final date to withdraw from a Summer I class with a g
 rade of 'W' at 11:59 p.m.
URL;VALUE=URI:https://www.ladelta.edu/calendar/4077389/2023-summer-i-final-
 date-to-withdraw-from-a-summer-i-class-with-a-grade-of-w-at-11-59-p-m
DTSTART;VALUE=DATE:20230626
DTEND;VALUE=DATE:20230627
END:VEVENT
END:VCALENDAR
