BEGIN:VCALENDAR
VERSION:2.0
PRODID:SchoolNow
CALSCALE:GREGORIAN
BEGIN:VEVENT
UID:f6ee5f76-de08-11ed-80b5-0232e5095313
DTSTAMP:20230418T164920Z
SUMMARY:2023 Summer II - Registration closes at 11:59 p.m.
URL;VALUE=URI:https://www.ladelta.edu/calendar/4077390/2023-summer-ii-regis
 tration-closes-at-11-59-p-m
DTSTART;VALUE=DATE:20230628
DTEND;VALUE=DATE:20230629
END:VEVENT
END:VCALENDAR
