BEGIN:VCALENDAR
VERSION:2.0
PRODID:SchoolNow
CALSCALE:GREGORIAN
BEGIN:VEVENT
UID:005b1234-de09-11ed-a9e4-0232e5095313
DTSTAMP:20230418T164936Z
SUMMARY:2023 Summer I - Final Exams and end of 1st Summer Term.
URL;VALUE=URI:https://www.ladelta.edu/calendar/4077391/2023-summer-i-final-
 exams-and-end-of-1st-summer-term
DTSTART;VALUE=DATE:20230629
DTEND;VALUE=DATE:20230630
END:VEVENT
END:VCALENDAR
