BEGIN:VCALENDAR
VERSION:2.0
PRODID:SchoolNow
CALSCALE:GREGORIAN
BEGIN:VEVENT
UID:18d1c10a-de09-11ed-9f16-0232e5095313
DTSTAMP:20230418T165017Z
SUMMARY:2023 Summer II - Fee payment deadline at 2:00 PM and purge for non-
 payment after 2:00 PM.
URL;VALUE=URI:https://www.ladelta.edu/calendar/4077392/2023-summer-ii-fee-p
 ayment-deadline-at-2-00-pm-and-purge-for-non-payment-after-2-00-pm
DTSTART:20230629T164900Z
DTEND:20230629T190000Z
END:VEVENT
END:VCALENDAR
