BEGIN:VCALENDAR
VERSION:2.0
PRODID:SchoolNow
CALSCALE:GREGORIAN
BEGIN:VEVENT
UID:28a63cdc-de09-11ed-98e1-0232e5095313
DTSTAMP:20230418T170102Z
SUMMARY:2023 Summer II Late Registration opens at 12:01 am and remains open
  through the drop/add period which ends July 6\, 2023\, at 2:00 p.m.
URL;VALUE=URI:https://www.ladelta.edu/calendar/4077393/2023-summer-ii-late-
 registration-opens-at-12-01-am-and-remains-open-through-the-drop-add-perio
 d-which-ends-july-6-2023-at-11-59-p-m
DTSTART:20230629T190100Z
DTEND:20230630T190000Z
END:VEVENT
END:VCALENDAR
