BEGIN:VCALENDAR
VERSION:2.0
PRODID:SchoolNow
CALSCALE:GREGORIAN
BEGIN:VEVENT
UID:e378683c-de09-11ed-a840-0e7a06d343f9
DTSTAMP:20230418T165557Z
SUMMARY:2023 Summer II classes begin.
URL;VALUE=URI:https://www.ladelta.edu/calendar/4077394/2023-summer-ii-class
 es-begin
DTSTART;VALUE=DATE:20230705
DTEND;VALUE=DATE:20230706
END:VEVENT
END:VCALENDAR
