BEGIN:VCALENDAR
VERSION:2.0
PRODID:SchoolNow
CALSCALE:GREGORIAN
BEGIN:VEVENT
UID:f9926924-de09-11ed-a9e4-0e7a06d343f9
DTSTAMP:20230418T165634Z
SUMMARY:2023 Summer-Extended Summer.  Final date to withdraw from an exten
 ded summer class (5-22 to 7-31) with a grade of 'W.'
URL;VALUE=URI:https://www.ladelta.edu/calendar/4077395/2023-summer-extended
 -summer-final-date-to-withdraw-from-an-extended-summer-class-5-22-to-7-31-
 with-a-grade-of-w
DTSTART;VALUE=DATE:20230705
DTEND;VALUE=DATE:20230706
END:VEVENT
END:VCALENDAR
