BEGIN:VCALENDAR
VERSION:2.0
PRODID:SchoolNow
CALSCALE:GREGORIAN
BEGIN:VEVENT
UID:1cd01f4e-de0a-11ed-a398-0e7a06d343f9
DTSTAMP:20230721T173906Z
SUMMARY:2023 Summer II - Final date to drop a Summer II class with a 100% r
 efund and no 'W' grade on student's record at 2:00 PM.  Summer II classes 
 dropped after today will receive a 'W' grade in the class and the class wi
 ll be charged fees and tuition. 7/5/23
URL;VALUE=URI:https://www.ladelta.edu/calendar/4077396/2023-summer-ii-final
 -date-to-drop-a-summer-ii-class-with-a-100-refund-and-no-w-grade-on-studen
 t-s-record-summer-ii-classes-dropped-after-today-will-receive-a-w-grade-in
 -the-class-and-the-class-will-be-charged-fees-and-tuition
DTSTART:20230705T190100Z
DTEND:20230706T190000Z
END:VEVENT
END:VCALENDAR
