BEGIN:VCALENDAR
VERSION:2.0
PRODID:SchoolNow
CALSCALE:GREGORIAN
BEGIN:VEVENT
UID:478f11ae-de0a-11ed-a278-0e7a06d343f9
DTSTAMP:20230418T165844Z
SUMMARY:2023 Summer-Full Summer.  Final date to withdraw from a full-summer
  class with a grade of 'W.'
URL;VALUE=URI:https://www.ladelta.edu/calendar/4077397/2023-summer-full-sum
 mer-final-date-to-withdraw-from-a-full-summer-class-with-a-grade-of-w
DTSTART;VALUE=DATE:20230720
DTEND;VALUE=DATE:20230721
END:VEVENT
END:VCALENDAR
