BEGIN:VCALENDAR
VERSION:2.0
PRODID:SchoolNow
CALSCALE:GREGORIAN
BEGIN:VEVENT
UID:df12da06-de0a-11ed-9ea8-0e7a06d343f9
DTSTAMP:20230418T170259Z
SUMMARY:2023 Summer II - Final Fee Payment Deadline at 2:00 PM. Purge for n
 on-payment after 2:00 PM
URL;VALUE=URI:https://www.ladelta.edu/calendar/4077398/2023-summer-ii-final
 -fee-payment-deadline-at-2-00-pm-purge-for-non-payment-after-2-00-pm
DTSTART;VALUE=DATE:20230706
DTEND;VALUE=DATE:20230707
END:VEVENT
END:VCALENDAR
