BEGIN:VCALENDAR
VERSION:2.0
PRODID:SchoolNow
CALSCALE:GREGORIAN
BEGIN:VEVENT
UID:fdb350a8-de0a-11ed-9e23-0e7a06d343f9
DTSTAMP:20230418T170350Z
SUMMARY:2023 Summer II deadline to withdraw a course or resign with 'W' gra
 des.
URL;VALUE=URI:https://www.ladelta.edu/calendar/4077399/2023-summer-ii-deadl
 ine-to-withdraw-a-course-or-resign-with-w-grades
DTSTART;VALUE=DATE:20230726
DTEND;VALUE=DATE:20230727
END:VEVENT
END:VCALENDAR
