BEGIN:VCALENDAR
VERSION:2.0
PRODID:SchoolNow
CALSCALE:GREGORIAN
BEGIN:VEVENT
UID:05be3c7c-de0b-11ed-b803-0e7a06d343f9
DTSTAMP:20230418T170404Z
SUMMARY:2023 Summer Final Exams and End of Term for full-summer and Summer 
 II classes.
URL;VALUE=URI:https://www.ladelta.edu/calendar/4077400/2023-summer-final-ex
 ams-and-end-of-term-for-full-summer-and-summer-ii-classes
DTSTART;VALUE=DATE:20230731
DTEND;VALUE=DATE:20230801
END:VEVENT
END:VCALENDAR
