BEGIN:VCALENDAR
VERSION:2.0
PRODID:SchoolNow
CALSCALE:GREGORIAN
BEGIN:VEVENT
UID:10fe054a-de0b-11ed-8835-0e7a06d343f9
DTSTAMP:20230418T170422Z
SUMMARY:2023 Summer-All Summer grades due by noon.
URL;VALUE=URI:https://www.ladelta.edu/calendar/4077401/2023-summer-all-summ
 er-grades-due-by-noon
DTSTART;VALUE=DATE:20230802
DTEND;VALUE=DATE:20230803
END:VEVENT
END:VCALENDAR
