BEGIN:VCALENDAR
VERSION:2.0
PRODID:SchoolNow
CALSCALE:GREGORIAN
BEGIN:VEVENT
UID:264be98a-de0b-11ed-b731-0e7a06d343f9
DTSTAMP:20230418T170458Z
SUMMARY:2023 Summer Degree Award Date for all students receiving awards in 
 the summer.
URL;VALUE=URI:https://www.ladelta.edu/calendar/4077402/2023-summer-degree-a
 ward-date-for-all-students-receiving-awards-in-the-summer
DTSTART;VALUE=DATE:20230811
DTEND;VALUE=DATE:20230812
END:VEVENT
END:VCALENDAR
