BEGIN:VCALENDAR
VERSION:2.0
PRODID:SchoolNow
CALSCALE:GREGORIAN
BEGIN:VEVENT
UID:b0fee7fa-de22-11ed-bdd9-02cfe7c0688b
DTSTAMP:20230418T195329Z
SUMMARY:2023 Fall Registration closes at 11:59 p.m.
URL;VALUE=URI:https://www.ladelta.edu/calendar/4077474/2023-fall-registrati
 on-closes-at-11-59-p-m
DTSTART;VALUE=DATE:20230809
DTEND;VALUE=DATE:20230810
END:VEVENT
END:VCALENDAR
