BEGIN:VCALENDAR
VERSION:2.0
PRODID:SchoolNow
CALSCALE:GREGORIAN
BEGIN:VEVENT
UID:bb05456e-de22-11ed-ad37-02cfe7c0688b
DTSTAMP:20230418T195346Z
SUMMARY:2023 Fall Fee Payment Deadline at 2:00 PM then 1st purge for non-pa
 yment after 2:00 PM.
URL;VALUE=URI:https://www.ladelta.edu/calendar/4077475/2023-fall-fee-paymen
 t-deadline-at-2-00-pm-then-1st-purge-for-non-payment-after-2-00-pm
DTSTART;VALUE=DATE:20230810
DTEND;VALUE=DATE:20230811
END:VEVENT
END:VCALENDAR
