BEGIN:VCALENDAR
VERSION:2.0
PRODID:SchoolNow
CALSCALE:GREGORIAN
BEGIN:VEVENT
UID:eb7d4e12-de22-11ed-b676-02cfe7c0688b
DTSTAMP:20230418T195507Z
SUMMARY:2023 Fall registration re-opens at 12:01 a.m.
URL;VALUE=URI:https://www.ladelta.edu/calendar/4077476/2023-fall-registrati
 on-re-opens-at-12-01-a-m
DTSTART;VALUE=DATE:20230811
DTEND;VALUE=DATE:20230812
END:VEVENT
END:VCALENDAR
