BEGIN:VCALENDAR
VERSION:2.0
PRODID:SchoolNow
CALSCALE:GREGORIAN
BEGIN:VEVENT
UID:fb0a62a2-de22-11ed-bafb-02cfe7c0688b
DTSTAMP:20230418T195534Z
SUMMARY:2023 Fall Semester - Late Registration and Drop/Add using LoLA Self
 -Service.  Friday\, August 11\, 2023\, 12:01 AM - Thursday\, August 17\, 2
 023\, 2:00 PM.
URL;VALUE=URI:https://www.ladelta.edu/calendar/4077477/2023-fall-semester-l
 ate-registration-and-drop-add-using-lola-self-service-friday-august-11-202
 3-12-01-am-thursday-august-17-2023-2-00-pm
DTSTART;VALUE=DATE:20230811
DTEND;VALUE=DATE:20230812
END:VEVENT
END:VCALENDAR
