BEGIN:VCALENDAR
VERSION:2.0
PRODID:SchoolNow
CALSCALE:GREGORIAN
BEGIN:VEVENT
UID:05c264a6-de23-11ed-a3d1-02cfe7c0688b
DTSTAMP:20230418T195552Z
SUMMARY:2023 Fall Semester Classes Begin.
URL;VALUE=URI:https://www.ladelta.edu/calendar/4077478/2023-fall-semester-c
 lasses-begin
DTSTART;VALUE=DATE:20230814
DTEND;VALUE=DATE:20230815
END:VEVENT
END:VCALENDAR
