BEGIN:VCALENDAR
VERSION:2.0
PRODID:SchoolNow
CALSCALE:GREGORIAN
BEGIN:VEVENT
UID:157ae972-de23-11ed-9969-02cfe7c0688b
DTSTAMP:20230418T195618Z
SUMMARY:2023 Fall Semester - Final date to add a first half-semester class 
 at 11:59 p.m.
URL;VALUE=URI:https://www.ladelta.edu/calendar/4077479/2023-fall-semester-f
 inal-date-to-add-a-first-half-semester-class-at-11-59-p-m
DTSTART;VALUE=DATE:20230815
DTEND;VALUE=DATE:20230816
END:VEVENT
END:VCALENDAR
