BEGIN:VCALENDAR
VERSION:2.0
PRODID:SchoolNow
CALSCALE:GREGORIAN
BEGIN:VEVENT
UID:1e9bb126-de23-11ed-87b6-02cfe7c0688b
DTSTAMP:20230418T195633Z
SUMMARY:2023 Fall - Last Day for 100% tuition refund for 1st 8-week courses
  only
URL;VALUE=URI:https://www.ladelta.edu/calendar/4077480/2023-fall-last-day-f
 or-100-tuition-refund-for-1st-8-week-courses-only
DTSTART;VALUE=DATE:20230815
DTEND;VALUE=DATE:20230816
END:VEVENT
END:VCALENDAR
