BEGIN:VCALENDAR
VERSION:2.0
PRODID:SchoolNow
CALSCALE:GREGORIAN
BEGIN:VEVENT
UID:2dcd8746-de23-11ed-8021-02cfe7c0688b
DTSTAMP:20230418T195659Z
SUMMARY:2023 Fall Semester - Final date to add a full semester class at 2:0
 0 p.m.
URL;VALUE=URI:https://www.ladelta.edu/calendar/4077481/2023-fall-semester-f
 inal-date-to-add-a-full-semester-class-at-2-00-p-m
DTSTART;VALUE=DATE:20230817
DTEND;VALUE=DATE:20230818
END:VEVENT
END:VCALENDAR
