BEGIN:VCALENDAR
VERSION:2.0
PRODID:SchoolNow
CALSCALE:GREGORIAN
BEGIN:VEVENT
UID:3672dbbc-de23-11ed-984f-02cfe7c0688b
DTSTAMP:20230418T195713Z
SUMMARY:2023 Fall - Final date to drop a fall full-semester class with a 10
 0% refund and no 'W' grade on student's record at 2:00 p.m.  Full-semester
  classes dropped after today will receive a 'W' grade in the class and the
  class will be charged fees and tuition.
URL;VALUE=URI:https://www.ladelta.edu/calendar/4077482/2023-fall-final-date
 -to-drop-a-fall-full-semester-class-with-a-100-refund-and-no-w-grade-on-st
 udent-s-record-at-2-00-p-m-full-semester-classes-dropped-after-today-will-
 receive-a-w-grade-in-the-class-and-the-class-will-be-charged-fees-and-tuit
 ion-all-full-
DTSTART;VALUE=DATE:20230817
DTEND;VALUE=DATE:20230818
END:VEVENT
END:VCALENDAR
