BEGIN:VCALENDAR
VERSION:2.0
PRODID:SchoolNow
CALSCALE:GREGORIAN
BEGIN:VEVENT
UID:4b3f1a56-de23-11ed-9d10-02cfe7c0688b
DTSTAMP:20230418T195748Z
SUMMARY:2023 Fall - Final Fee payment deadline for all  classes at 2:00 PM 
 then final purge for non-payment after 2:00 PM.
URL;VALUE=URI:https://www.ladelta.edu/calendar/4077483/2023-fall-final-fee-
 payment-deadline-for-all-classes-at-2-00-pm-then-final-purge-for-non-payme
 nt-after-2-00-pm
DTSTART;VALUE=DATE:20230817
DTEND;VALUE=DATE:20230818
END:VEVENT
END:VCALENDAR
