BEGIN:VCALENDAR
VERSION:2.0
PRODID:SchoolNow
CALSCALE:GREGORIAN
BEGIN:VEVENT
UID:7404ea56-de23-11ed-bc59-02cfe7c0688b
DTSTAMP:20230418T195857Z
SUMMARY:2023 Fall - Last Day for 50% tuition refund for Full-semester dropp
 ed courses
URL;VALUE=URI:https://www.ladelta.edu/calendar/4077484/2023-fall-last-day-f
 or-50-tuition-refund-for-full-semester-dropped-courses
DTSTART;VALUE=DATE:20230824
DTEND;VALUE=DATE:20230825
END:VEVENT
END:VCALENDAR
