BEGIN:VCALENDAR
VERSION:2.0
PRODID:SchoolNow
CALSCALE:GREGORIAN
BEGIN:VEVENT
UID:7cf31196-de24-11ed-8ce5-0292a2bbe34b
DTSTAMP:20230418T200621Z
SUMMARY:2023 Fall - Last Day for 25% tuition refund for Full-semester dropp
 ed courses
URL;VALUE=URI:https://www.ladelta.edu/calendar/4077485/2023-fall-last-day-f
 or-25-tuition-refund-for-full-semester-dropped-courses
DTSTART;VALUE=DATE:20230831
DTEND;VALUE=DATE:20230901
END:VEVENT
END:VCALENDAR
