BEGIN:VCALENDAR
VERSION:2.0
PRODID:SchoolNow
CALSCALE:GREGORIAN
BEGIN:VEVENT
UID:8ac12984-de24-11ed-a79a-0292a2bbe34b
DTSTAMP:20230418T200644Z
SUMMARY:2023 Fall - Labor Day Holiday.  All Campuses Closed.
URL;VALUE=URI:https://www.ladelta.edu/calendar/4077486/2023-fall-labor-day-
 holiday-all-campuses-closed
DTSTART;VALUE=DATE:20230904
DTEND;VALUE=DATE:20230905
END:VEVENT
END:VCALENDAR
