BEGIN:VCALENDAR
VERSION:2.0
PRODID:SchoolNow
CALSCALE:GREGORIAN
BEGIN:VEVENT
UID:9221c9d6-de24-11ed-a6c6-0292a2bbe34b
DTSTAMP:20230418T200657Z
SUMMARY:2023 Fall - Classes resume after Labor Day holiday.
URL;VALUE=URI:https://www.ladelta.edu/calendar/4077487/2023-fall-classes-re
 sume-after-labor-day-holiday
DTSTART;VALUE=DATE:20230905
DTEND;VALUE=DATE:20230906
END:VEVENT
END:VCALENDAR
