BEGIN:VCALENDAR
VERSION:2.0
PRODID:SchoolNow
CALSCALE:GREGORIAN
BEGIN:VEVENT
UID:9f57f314-de24-11ed-ae61-0292a2bbe34b
DTSTAMP:20230418T200719Z
SUMMARY:2023 Fall  - Final date to withdraw from a 1st half-term class with
  a grade of 'W'.
URL;VALUE=URI:https://www.ladelta.edu/calendar/4077488/2023-fall-final-date
 -to-withdraw-from-a-1st-half-term-class-with-a-grade-of-w
DTSTART;VALUE=DATE:20230925
DTEND;VALUE=DATE:20230926
END:VEVENT
END:VCALENDAR
