BEGIN:VCALENDAR
VERSION:2.0
PRODID:SchoolNow
CALSCALE:GREGORIAN
BEGIN:VEVENT
UID:a8e145fc-de24-11ed-b77c-0292a2bbe34b
DTSTAMP:20230418T200735Z
SUMMARY:2023 Fall - Final exams for accelerated courses which end October 6
 .
URL;VALUE=URI:https://www.ladelta.edu/calendar/4077489/2023-fall-final-exam
 s-for-accelerated-courses-which-end-october-6
DTSTART;VALUE=DATE:20231003
DTEND;VALUE=DATE:20231004
END:VEVENT
END:VCALENDAR
